BEGIN:VCALENDAR
VERSION:2.0
PRODID:-//Tukios.com/
BEGIN:VEVENT
UID:2728e728-4c53-44d3-944e-aa4c530970b0@www.armeshuntfuneralhome.com
DTSTAMP:20260420T225034Z
DTSTART:20260423T180000Z
DTEND:20260423T200000Z
SUMMARY:Visitation
DESCRIPTION:
URL:https://www.armeshuntfuneralhome.com/obituaries/james-mike-jordan
LOCATION: 200 N 7th St  Gas City IN 46933
GEO:40.4888707;-85.6023496
END:VEVENT
END:VCALENDAR