BEGIN:VCALENDAR
VERSION:2.0
PRODID:-//Tukios.com/
BEGIN:VEVENT
UID:e2e7086b-b79d-417a-803d-235362a87222@www.armeshuntfuneralhome.com
DTSTAMP:20260420T224047Z
DTSTART:20260423T200000Z
DTEND:20260423T210000Z
SUMMARY:Funeral Service
DESCRIPTION:
URL:https://www.armeshuntfuneralhome.com/obituaries/james-mike-jordan
LOCATION: 200 N 7th St  Gas City IN 46933
GEO:40.4888707;-85.6023496
END:VEVENT
END:VCALENDAR